BEGIN:VCALENDAR
VERSION:2.0
PRODID:-//wp-events-plugin.com//7.2.3.1//EN
TZID:Europe/London
X-WR-TIMEZONE:Europe/London
BEGIN:VEVENT
UID:71@cakeschool.co.uk
DTSTART;TZID=Europe/London:20220106T183000
DTEND;TZID=Europe/London:20220210T210000
DTSTAMP:20220505T122532Z
URL:https://cakeschool.co.uk/courses/april-thursday-evening-celebration-ca
 ke/
SUMMARY:January Thursday Evening Dinosaur Cake
DESCRIPTION:This is a six week modelling and cake covering course. The them
 e for this course will be a brightly coloured cake full of cute Dinosaurs.
  Skills covered during the five weeks will be flawless cake covering using
  sugar paste\, Pastillage icing\, 3D character modelling and decorative te
 chniques using modelling paste.\n\nThe project is on 8" round fruit cake b
 y 4" depth (required week 2) or a dummy cake can be an option if preferred
 \, available from the school for £7.00.\n\n&nbsp\;\n\n&nbsp\;
ATTACH;FMTTYPE=image/jpeg:https://cakeschool.co.uk/wpckschl/wp-content/upl
 oads/2020/02/Dino-Cake-x2-Jan-2022.jpeg
END:VEVENT
BEGIN:VTIMEZONE
TZID:Europe/London
X-LIC-LOCATION:Europe/London
BEGIN:STANDARD
DTSTART:20211031T010000
TZOFFSETFROM:+0100
TZOFFSETTO:+0000
TZNAME:GMT
END:STANDARD
END:VTIMEZONE
END:VCALENDAR