BEGIN:VCALENDAR
VERSION:2.0
PRODID:-//wp-events-plugin.com//7.2.3.1//EN
TZID:Europe/London
X-WR-TIMEZONE:Europe/London
BEGIN:VEVENT
UID:341@cakeschool.co.uk
DTSTART;TZID=Europe/London:20260609T183000
DTEND;TZID=Europe/London:20260714T213000
DTSTAMP:20260329T170341Z
URL:https://cakeschool.co.uk/courses/april-tuesday-evening-create-rose-spr
 ays-with-foliage-fillers/
SUMMARY:June Tuesday Evening "Create Rose Sprays with Foliage & Fillers"
DESCRIPTION:This is a six week flower course\, the project for this term is
  focusing on building beautiful Rose sprays. You'll learn how to create a 
 variety of rose types - from tight buds and classic blooms to open garden 
 style roses\, each formed with refinded techniques that bring realism and 
 character to your work. Alongside the roses\, you'll craft complementary f
 oliage and delicate filler flowers\, exploring how shape\, scale and colou
 r balance contribute to a harmoious arrangment. By the end\, you'll have t
 he confidence and skill to design your own custom floral compositions that
  feel natural\, expressive\, and beautifully detailed.(The actual Pic to f
 ollow\, the image shown is showing the standard of work)\n\nStudents are w
 elcome to do their own individual flower project after discussion with the
  tutor and of course in the time constraints of the course.\n\nSkills lear
 nt on this course are essential for floral sugar craft\, softening edges\,
  use of dusting and blending of colours\, wiring\, and taping the flowers 
 into a spray.\n\nAdditional costs to this course are flower wires\, tape a
 nd dust colours all available to purchase from the school.
ATTACH;FMTTYPE=image/jpeg:https://cakeschool.co.uk/wpckschl/wp-content/upl
 oads/2023/04/Kerry-demo-April-2023.jpg
END:VEVENT
BEGIN:VTIMEZONE
TZID:Europe/London
X-LIC-LOCATION:Europe/London
BEGIN:DAYLIGHT
DTSTART:20260329T020000
TZOFFSETFROM:+0000
TZOFFSETTO:+0100
TZNAME:BST
END:DAYLIGHT
END:VTIMEZONE
END:VCALENDAR