BEGIN:VCALENDAR
VERSION:2.0
PRODID:-//wp-events-plugin.com//7.2.3.1//EN
TZID:Europe/London
X-WR-TIMEZONE:Europe/London
BEGIN:VEVENT
UID:233@cakeschool.co.uk
DTSTART;TZID=Europe/London:20240612T100000
DTEND;TZID=Europe/London:20240717T123000
DTSTAMP:20240530T163622Z
URL:https://cakeschool.co.uk/courses/april-wednesday-morning-sugar-flowers
 -tropical-theme/
SUMMARY:June Wednesday Morning Sugar Flowers 'Tropical Theme'
DESCRIPTION:This is a six week flower course\, the class project for this t
 erm is learning to create the tropical flower Bird of Paradise and Bougain
 villea  arranged into a beautiful spray.\n\nSkills learnt during the cour
 se are the essential skills for floral sugar craft\, ie softening edges\, 
 dusting colours\, wiring of petals and leaves\, and taping the flowers.\n\
 nAlternatively students are able to do their own chosen project within the
  time constraints of the course if agreed with the tutor before booking th
 e course.\n\nAdditional costs to this course are flower wires\, tape and d
 ust colours\, all avaiable to purchase from the school.
ATTACH;FMTTYPE=image/jpeg:https://cakeschool.co.uk/wpckschl/wp-content/upl
 oads/2024/04/Bird-of-Paradise-June-2024.jpg
END:VEVENT
BEGIN:VTIMEZONE
TZID:Europe/London
X-LIC-LOCATION:Europe/London
BEGIN:DAYLIGHT
DTSTART:20240331T020000
TZOFFSETFROM:+0000
TZOFFSETTO:+0100
TZNAME:BST
END:DAYLIGHT
END:VTIMEZONE
END:VCALENDAR