BEGIN:VCALENDAR
VERSION:2.0
PRODID:-//wp-events-plugin.com//7.2.3.1//EN
TZID:Europe/London
X-WR-TIMEZONE:Europe/London
BEGIN:VEVENT
UID:189@cakeschool.co.uk
DTSTART;TZID=Europe/London:20231202T100000
DTEND;TZID=Europe/London:20231202T183000
DTSTAMP:20231015T091711Z
URL:https://cakeschool.co.uk/courses/december-saturday-carved-santa-cake/
SUMMARY:December Saturday Carved Santa Cake
DESCRIPTION:This is a one day class to learn how to carve sponge cakes and 
 shape into the cutest Santa\, fab for a fun Christmascake.\n\nDuring this 
 class you will carve\, and crumb coat the sponge cakes provided into Santa
 . You will then be taught to crumb coat in buttercream and cover the novel
 ty shaped cake using sugar paste. The cake will then be completed using va
 rious decorative finishes to transform it from just a covered sponge into 
 this adorable Sant.\n\nA light lunch will also be included during your day
  and all materials are provided for this one day full class.
ATTACH;FMTTYPE=image/jpeg:https://cakeschool.co.uk/wpckschl/wp-content/upl
 oads/2023/10/Carved-Santa-2023.jpg
END:VEVENT
BEGIN:VTIMEZONE
TZID:Europe/London
X-LIC-LOCATION:Europe/London
BEGIN:STANDARD
DTSTART:20231029T010000
TZOFFSETFROM:+0100
TZOFFSETTO:+0000
TZNAME:GMT
END:STANDARD
END:VTIMEZONE
END:VCALENDAR