BEGIN:VCALENDAR
VERSION:2.0
PRODID:-//wp-events-plugin.com//7.2.3.1//EN
TZID:Europe/London
X-WR-TIMEZONE:Europe/London
BEGIN:VEVENT
UID:190@cakeschool.co.uk
DTSTART;TZID=Europe/London:20240108T100000
DTEND;TZID=Europe/London:20240205T123000
DTSTAMP:20240102T115457Z
URL:https://cakeschool.co.uk/courses/january-monday-morning-colourful-bird
 -theme/
SUMMARY:January Monday Morning "Colourful Bird & Flower Theme"
DESCRIPTION:This is a five week modelling and cake covering course. The the
 me for this course is a colouful cake with flowers and colourful birds. Mo
 dels will be created from modelling paste to create decorative birds and f
 lowers.\n\nSkills covered during the five weeks will be flawless cake cove
 ring using sugar paste\, 2D and 3D modelling and many other decorative tec
 hniques using modelling paste.\n\nThe project shape is round and size 8" b
 y 4" deep approximately\, students can make a fruit cake if desired (requi
 red marzipaned for week 2)\, a sponge cake can be ordered from the school 
 but please email to place your order in advance at dawn@cakeschool.co.uk o
 r a dummy cake can be an option if preferred\, available from the school f
 or £8.00.
ATTACH;FMTTYPE=image/jpeg:https://cakeschool.co.uk/wpckschl/wp-content/upl
 oads/2023/10/Birds-and-Flowers-Jan-24.jpeg
END:VEVENT
BEGIN:VTIMEZONE
TZID:Europe/London
X-LIC-LOCATION:Europe/London
BEGIN:STANDARD
DTSTART:20231029T010000
TZOFFSETFROM:+0100
TZOFFSETTO:+0000
TZNAME:GMT
END:STANDARD
END:VTIMEZONE
END:VCALENDAR