BEGIN:VCALENDAR
VERSION:2.0
PRODID:-//wp-events-plugin.com//7.2.3.1//EN
TZID:Europe/London
X-WR-TIMEZONE:Europe/London
BEGIN:VEVENT
UID:34@cakeschool.co.uk
DTSTART;TZID=Europe/London:20220314T183000
DTEND;TZID=Europe/London:20220321T210000
DTSTAMP:20220505T123716Z
URL:https://cakeschool.co.uk/courses/july-monday-evening-basic-piping/
SUMMARY:March Monday Evening Royal Iced Runouts
DESCRIPTION:This is a two week class to learn traditional runouts. An enjoy
 able technique to learn which can create a theme to any celebration cake o
 r biscuit. A very rewarding and versatile skill perfect for a beginner to 
 royal icing or someone wanting to gain more confidence in their piping ski
 lls.
ATTACH;FMTTYPE=image/jpeg:https://cakeschool.co.uk/wpckschl/wp-content/upl
 oads/2019/06/Screenshot-2020-04-16-at-15.30.26.png
END:VEVENT
BEGIN:VTIMEZONE
TZID:Europe/London
X-LIC-LOCATION:Europe/London
BEGIN:STANDARD
DTSTART:20211031T010000
TZOFFSETFROM:+0100
TZOFFSETTO:+0000
TZNAME:GMT
END:STANDARD
END:VTIMEZONE
END:VCALENDAR