BEGIN:VCALENDAR
VERSION:2.0
PRODID:-//wp-events-plugin.com//7.2.3.1//EN
TZID:Europe/London
X-WR-TIMEZONE:Europe/London
BEGIN:VEVENT
UID:35@cakeschool.co.uk
DTSTART;TZID=Europe/London:20190627T183000
DTEND;TZID=Europe/London:20190627T213000
DTSTAMP:20190621T082520Z
URL:https://cakeschool.co.uk/courses/june-thursday-evening-ganache-coverin
 g/
SUMMARY:June Thursday Evening Ganache & Covering
DESCRIPTION:This class will give you the confidence and techniques to crumb
  coat a provided sponge cake using chocolate ganache. Followed by covering
  the sponge cake using sugar paste and creating the flawless finish the pr
 ofessionals achieve. Step by step expert tuition and supervision to achiev
 e your goal.\nAll materials including 8" sponge cake are provided for this
  class.
ATTACH;FMTTYPE=image/jpeg:https://cakeschool.co.uk/wpckschl/wp-content/upl
 oads/2019/06/01b9760f22ab97f1e604840af943b815c5a09308e5.jpg
END:VEVENT
BEGIN:VTIMEZONE
TZID:Europe/London
X-LIC-LOCATION:Europe/London
BEGIN:DAYLIGHT
DTSTART:20190331T020000
TZOFFSETFROM:+0000
TZOFFSETTO:+0100
TZNAME:BST
END:DAYLIGHT
END:VTIMEZONE
END:VCALENDAR