BEGIN:VCALENDAR
VERSION:2.0
PRODID:-//wp-events-plugin.com//7.2.3.1//EN
TZID:Europe/London
X-WR-TIMEZONE:Europe/London
BEGIN:VEVENT
UID:343@cakeschool.co.uk
DTSTART;TZID=Europe/London:20260611T100000
DTEND;TZID=Europe/London:20260716T123000
DTSTAMP:20260329T170700Z
URL:https://cakeschool.co.uk/courses/june-thursday-morning-royal-icing-4/
SUMMARY:June Thursday Morning Royal Icing
DESCRIPTION:This is a six week course with 3 levels of ability and 3 projec
 ts suitable for the levels of students ability. All royal Icing classes wi
 ll be of mixed ability with 3 levels\, beginners\, improvers and advanced 
 students\, You will be set a project to suit your level after discussion w
 ith the tutor. (Pic is to show standard actual project to follow)\n\nRoyal
  Icing classes are the perfect course to join if you want to learn to pipe
 \, or brush up on your piping techniques. Just some of the skills and tech
 niques covered in these classes are coating in royal icing\, pressure pipi
 ng\, drop line and runout work.\n\nThe cakes for royal icing classes will 
 always be a fruit cake\, a beginner will start off with a round 8" fruit c
 ake approximately 3" depth or if preferred students can use a dummy cake\,
  available from the school to purchase for £8.00 inclusive of board and b
 ox.
ATTACH;FMTTYPE=image/jpeg:https://cakeschool.co.uk/wpckschl/wp-content/upl
 oads/2024/04/Advanced-Birds-and-brush-embrodiery-April-2024.jpeg
END:VEVENT
BEGIN:VTIMEZONE
TZID:Europe/London
X-LIC-LOCATION:Europe/London
BEGIN:DAYLIGHT
DTSTART:20260329T020000
TZOFFSETFROM:+0000
TZOFFSETTO:+0100
TZNAME:BST
END:DAYLIGHT
END:VTIMEZONE
END:VCALENDAR