BEGIN:VCALENDAR
VERSION:2.0
PRODID:-//wp-events-plugin.com//7.2.3.1//EN
TZID:Europe/London
X-WR-TIMEZONE:Europe/London
BEGIN:VEVENT
UID:342@cakeschool.co.uk
DTSTART;TZID=Europe/London:20260610T183000
DTEND;TZID=Europe/London:20260715T210000
DTSTAMP:20260407T091241Z
URL:https://cakeschool.co.uk/courses/june-wednesday-evening-royal-icing-5/
SUMMARY:June Wednesday Evening Royal Icing
DESCRIPTION:This is a six week mixed ability course with 3 levels of abilit
 y and 3 projects suitable for the levels of students ability. All royal Ic
 ing classes will be of mixed ability with 3 levels\, beginners\, improvers
  and advanced students\, You will be set a project to suit your level afte
 r discussion with the tutor. \n\nRoyal Icing classes are the perfect cours
 e to join if you want to learn to pipe\, or brush up on your piping techni
 ques. Just some of the skills and techniques covered in these classes are 
 coating in royal icing\, pressure piping\, drop line and runout work.\n\nT
 he cakes for royal icing classes will always be a fruit cake\, a beginner 
 will start off with a round 8" fruit cake or if preferred students can use
  a dummy cake\, available from the school to purchase for £8.00 inclusive
  of board and box.
ATTACH;FMTTYPE=image/jpeg:https://cakeschool.co.uk/wpckschl/wp-content/upl
 oads/2023/08/Close-up-royal-x-2-Aug-2023.jpg
END:VEVENT
BEGIN:VTIMEZONE
TZID:Europe/London
X-LIC-LOCATION:Europe/London
BEGIN:DAYLIGHT
DTSTART:20260329T020000
TZOFFSETFROM:+0000
TZOFFSETTO:+0100
TZNAME:BST
END:DAYLIGHT
END:VTIMEZONE
END:VCALENDAR