BEGIN:VCALENDAR
VERSION:2.0
PRODID:-//wp-events-plugin.com//7.2.3.1//EN
TZID:Europe/London
X-WR-TIMEZONE:Europe/London
BEGIN:VEVENT
UID:63@cakeschool.co.uk
DTSTART;TZID=Europe/London:20220409T100000
DTEND;TZID=Europe/London:20220409T170000
DTSTAMP:20220505T122716Z
URL:https://cakeschool.co.uk/courses/march-saturday-carved-peter-rabbit-ca
 ke/
SUMMARY:April Saturday Carved Peter Rabbit Cake
DESCRIPTION:This is a one day class to learn how to carve sponge cakes and 
 shape into our take on the much loved Peter Rabbit character.\n\nDuring th
 is class you will carve\, and crumb coat the sponge cakes into the shape o
 f the rabbit. You will then be taught to cover the novelty shaped cake usi
 ng sugar paste. The cake will then be completed using decorative finishes 
 to bring it to life to the loveable character of Peter Rabbit.\n\nA light 
 lunch will also be included during your day and all materials are provided
  for this one day full class.
ATTACH;FMTTYPE=image/jpeg:https://cakeschool.co.uk/wpckschl/wp-content/upl
 oads/2022/05/IMG_1257-600x800-1.jpg
END:VEVENT
BEGIN:VTIMEZONE
TZID:Europe/London
X-LIC-LOCATION:Europe/London
BEGIN:DAYLIGHT
DTSTART:20220327T020000
TZOFFSETFROM:+0000
TZOFFSETTO:+0100
TZNAME:BST
END:DAYLIGHT
END:VTIMEZONE
END:VCALENDAR