BEGIN:VCALENDAR
VERSION:2.0
PRODID:-//wp-events-plugin.com//7.2.3.1//EN
TZID:Europe/London
X-WR-TIMEZONE:Europe/London
BEGIN:VEVENT
UID:60@cakeschool.co.uk
DTSTART;TZID=Europe/London:20210608T100000
DTEND;TZID=Europe/London:20210713T123000
DTSTAMP:20210518T094407Z
URL:https://cakeschool.co.uk/courses/march-tuesday-morning-wired-flowers/
SUMMARY:June Tuesday Morning Wired Flowers
DESCRIPTION:This is a six week flower course\, the project for this course 
 is a stuning Hibiscus summer spray. You will learn on this course the esse
 ntial skills for floral sugar craft which are\, softening edges\, use of d
 usting and blending of colours\, wiring\, and taping the flowers into a sp
 ray.\n\nAdditional costs to this course are flower wires\, tape and dust c
 olours all available to purchase from the school.
ATTACH;FMTTYPE=image/jpeg:https://cakeschool.co.uk/wpckschl/wp-content/upl
 oads/2020/01/IMG_3596-Edited-scaled.jpg
END:VEVENT
BEGIN:VTIMEZONE
TZID:Europe/London
X-LIC-LOCATION:Europe/London
BEGIN:DAYLIGHT
DTSTART:20210328T020000
TZOFFSETFROM:+0000
TZOFFSETTO:+0100
TZNAME:BST
END:DAYLIGHT
END:VTIMEZONE
END:VCALENDAR