BEGIN:VCALENDAR
VERSION:2.0
PRODID:-//wp-events-plugin.com//7.2.3.1//EN
TZID:Europe/London
X-WR-TIMEZONE:Europe/London
BEGIN:VEVENT
UID:339@cakeschool.co.uk
DTSTART;TZID=Europe/London:20260413T183000
DTEND;TZID=Europe/London:20260413T210000
DTSTAMP:20260327T213830Z
URL:https://cakeschool.co.uk/courses/monday-evening-writing-skills/
SUMMARY:Monday Evening Writing Skills
DESCRIPTION:This is a 1 week class teaching the techniques and skills in wr
 iting in icing. This is a great opportunity to brush up on your piping ski
 lls or as a beginner learn some of the basic techniques in learning how to
  write with icing on celebration cakes.This is one of the hardest techniqu
 es which can either enhance a decorated cake or often ruin it! Even the ex
 perienced cake decorator needs to practice their style of writing on cakes
 \, so take the opportunity and sign up.
ATTACH;FMTTYPE=image/jpeg:https://cakeschool.co.uk/wpckschl/wp-content/upl
 oads/2022/04/courses-lettering.jpg
END:VEVENT
BEGIN:VTIMEZONE
TZID:Europe/London
X-LIC-LOCATION:Europe/London
BEGIN:DAYLIGHT
DTSTART:20260329T020000
TZOFFSETFROM:+0000
TZOFFSETTO:+0100
TZNAME:BST
END:DAYLIGHT
END:VTIMEZONE
END:VCALENDAR