BEGIN:VCALENDAR
VERSION:2.0
PRODID:-//wp-events-plugin.com//7.2.3.1//EN
TZID:Europe/London
X-WR-TIMEZONE:Europe/London
BEGIN:VEVENT
UID:186@cakeschool.co.uk
DTSTART;TZID=Europe/London:20231113T183000
DTEND;TZID=Europe/London:20231204T210000
DTSTAMP:20231004T221841Z
URL:https://cakeschool.co.uk/courses/november-monday-evening-santa-down-a-
 chimney/
SUMMARY:November Monday Evening 'Santa Down a Chimney'
DESCRIPTION:This is a four week modelling course to create a fun\, novelty 
 Christmas cake\, 'Santa down a chimney with his sack'. The course fee will
  include the cost of 2 x  4" fruit cakes\, marzipan\, board and box. Skill
 s covered on this course will be marzipaning\, covering the cake in sugar 
 paste\, seasonal character modelling\, and other decorating skills to crea
 te this fun Christmas cake. 
ATTACH;FMTTYPE=image/jpeg:https://cakeschool.co.uk/wpckschl/wp-content/upl
 oads/2023/09/Christmas-santa-coming-out-of-a-chimney-2023.jpg
END:VEVENT
BEGIN:VTIMEZONE
TZID:Europe/London
X-LIC-LOCATION:Europe/London
BEGIN:STANDARD
DTSTART:20231029T010000
TZOFFSETFROM:+0100
TZOFFSETTO:+0000
TZNAME:GMT
END:STANDARD
END:VTIMEZONE
END:VCALENDAR