BEGIN:VCALENDAR
VERSION:2.0
PRODID:-//wp-events-plugin.com//7.2.3.1//EN
TZID:Europe/London
X-WR-TIMEZONE:Europe/London
BEGIN:VEVENT
UID:187@cakeschool.co.uk
DTSTART;TZID=Europe/London:20231125T100000
DTEND;TZID=Europe/London:20231125T143000
DTSTAMP:20231111T183630Z
URL:https://cakeschool.co.uk/courses/november-saturday-christmas-cake-topp
 ers-3/
SUMMARY:November Saturday Christmas Cake Toppers
DESCRIPTION:A great class as an introduction to the art of modelling. Four\
 , festive characters will be demonstrated and you will be given the instru
 ction on how to model them yourself\, perfect for Christmas mini cakes\, o
 r cupcakes. Get ahead by preparing your toppers to be the centre piece on 
 your Christmas cakes.\n\nSkills you will learn are basic modelling techniq
 ues\, colouring and proportions by creating these delightful Christmas cha
 racters.(This is an example of the toppers)
ATTACH;FMTTYPE=image/jpeg:https://cakeschool.co.uk/wpckschl/wp-content/upl
 oads/2023/09/Toppers-2023.jpg
END:VEVENT
BEGIN:VTIMEZONE
TZID:Europe/London
X-LIC-LOCATION:Europe/London
BEGIN:STANDARD
DTSTART:20231029T010000
TZOFFSETFROM:+0100
TZOFFSETTO:+0000
TZNAME:GMT
END:STANDARD
END:VTIMEZONE
END:VCALENDAR