BEGIN:VCALENDAR
VERSION:2.0
PRODID:-//wp-events-plugin.com//7.2.3.1//EN
TZID:Europe/London
X-WR-TIMEZONE:Europe/London
BEGIN:VEVENT
UID:188@cakeschool.co.uk
DTSTART;TZID=Europe/London:20231125T100000
DTEND;TZID=Europe/London:20231125T143000
DTSTAMP:20231108T171557Z
URL:https://cakeschool.co.uk/courses/november-saturday-mini-christmas-cake
 -3/
SUMMARY:November Saturday Mini Christmas Cake
DESCRIPTION:This is a perfect half day class to learn some basic decorating
  skills and leave with a delightful mini fruit cake perfect to keep or as 
 a gift for someone special for Christmas. This course is ideal for a begin
 ner providing some of the basic skills required for cake decorating.\n\nSk
 ills learnt during this class will be marzipaning\, covering the provided 
 cake with icing and modelling a cute cake topper to complete the cake.\n\n
 All materials including 4" fruit cake are provided for this class.\n\n&nbs
 p\;\n\n&nbsp\;
ATTACH;FMTTYPE=image/jpeg:https://cakeschool.co.uk/wpckschl/wp-content/upl
 oads/2023/09/Mini-Xmas-cake-Santa-with-a-tree-2023.jpeg
END:VEVENT
BEGIN:VTIMEZONE
TZID:Europe/London
X-LIC-LOCATION:Europe/London
BEGIN:STANDARD
DTSTART:20231029T010000
TZOFFSETFROM:+0100
TZOFFSETTO:+0000
TZNAME:GMT
END:STANDARD
END:VTIMEZONE
END:VCALENDAR