BEGIN:VCALENDAR
VERSION:2.0
PRODID:-//wp-events-plugin.com//7.2.3.1//EN
TZID:Europe/London
X-WR-TIMEZONE:Europe/London
BEGIN:VEVENT
UID:183@cakeschool.co.uk
DTSTART;TZID=Europe/London:20231102T100000
DTEND;TZID=Europe/London:20231207T123000
DTSTAMP:20230923T074242Z
URL:https://cakeschool.co.uk/courses/november-thursday-morning-royal-icing
 /
SUMMARY:November Thursday Morning Royal Icing
DESCRIPTION:This is a six week Christmas course with 3 levels of ability an
 d 3 projects suitable for the levels of students ability. All royal Icing 
 classes will be of mixed ability with 3 levels\, beginners\, improvers and
  advanced students\, You will be set a project to suit your level after di
 scussion with the tutor.\n\nRoyal Icing classes are the perfect course to 
 join if you want to learn to pipe\, or brush up on your piping techniques.
  Just some of the skills and techniques covered in these classes are coati
 ng in royal icing\, pressure piping\, drop line and runout work.\n\nThe ca
 kes for royal icing classes will always be a fruit cake\, a beginner will 
 start off with a round 8" fruit cake approximately 3" depth or if preferre
 d students can use a dummy cake\, available from the school to purchase fo
 r £8.00 inclusive of board and box.\n                      
ATTACH;FMTTYPE=image/jpeg:https://cakeschool.co.uk/wpckschl/wp-content/upl
 oads/2023/08/Paul-Royal-icing-Aug-2023.jpg
END:VEVENT
BEGIN:VTIMEZONE
TZID:Europe/London
X-LIC-LOCATION:Europe/London
BEGIN:STANDARD
DTSTART:20231029T010000
TZOFFSETFROM:+0100
TZOFFSETTO:+0000
TZNAME:GMT
END:STANDARD
END:VTIMEZONE
END:VCALENDAR