BEGIN:VCALENDAR
VERSION:2.0
PRODID:-//wp-events-plugin.com//7.2.3.1//EN
TZID:Europe/London
X-WR-TIMEZONE:Europe/London
BEGIN:VEVENT
UID:32@cakeschool.co.uk
DTSTART;TZID=Europe/London:20211102T100000
DTEND;TZID=Europe/London:20211207T123000
DTSTAMP:20220505T123738Z
URL:https://cakeschool.co.uk/courses/november-tuesday-morning-poinsettia-s
 pray/
SUMMARY:November Tuesday Morning Christmas Amaryllis Spray
DESCRIPTION:This is a six week course\, the project for this course is a fe
 stive arrangement to include Amaryllis\, Orchids\, Mistletoe and foilage. 
 You will learn the essential skills for floral sugar craft\, softening edg
 es\, wiring of petals and leaves\, dusting techniques and taping into a be
 autiful\, festive spray.\n\nThe finished piece will look stunning on eithe
 r the top of a Christmas cake or will make the perfect table top centre pi
 ece.\n\nAdditional costs for this course are floristry wires\, tape\, and 
 dust colours\, all available to purchase from the school. Pic to follow sh
 ortly.
ATTACH;FMTTYPE=image/jpeg:https://cakeschool.co.uk/wpckschl/wp-content/upl
 oads/2019/06/Amaryllis-Xmas-spray-2021.jpg
END:VEVENT
BEGIN:VTIMEZONE
TZID:Europe/London
X-LIC-LOCATION:Europe/London
BEGIN:STANDARD
DTSTART:20211031T010000
TZOFFSETFROM:+0100
TZOFFSETTO:+0000
TZNAME:GMT
END:STANDARD
END:VTIMEZONE
END:VCALENDAR