BEGIN:VCALENDAR
VERSION:2.0
PRODID:-//wp-events-plugin.com//7.2.3.1//EN
TZID:Europe/London
X-WR-TIMEZONE:Europe/London
BEGIN:VEVENT
UID:184@cakeschool.co.uk
DTSTART;TZID=Europe/London:20231030T100000
DTEND;TZID=Europe/London:20231204T123000
DTSTAMP:20231025T080900Z
URL:https://cakeschool.co.uk/courses/october-monday-morning-christmas-them
 e/
SUMMARY:October Monday Morning "Christmas Theme"
DESCRIPTION:This is a six week Christmas modelling and cake covering course
 . The theme for this course is a festive Christmas project. Models will be
  created to make an exciting and decorative Christmas cake full of colour 
 and fun for the festive season.\n\nSkills covered during the six weeks wil
 l be flawless cake covering using sugar paste\, 2D and 3D character modell
 ing and many other decorative techniques using modelling paste.\n\nThe pro
 ject shape and size will shortly be added to this web page so students can
  make a fruit cake if desired (required marzipaned for week 2)\, a sponge 
 cake can be ordered from the school but please email to place your order i
 n advance at dawn@cakeschool.co.uk or a dummy cake can be an option if pre
 ferred\, available from the school for £8.00.
ATTACH;FMTTYPE=image/jpeg:https://cakeschool.co.uk/wpckschl/wp-content/upl
 oads/2023/08/Top-image-santa-pulling-sleigh-2023.jpeg
END:VEVENT
BEGIN:VTIMEZONE
TZID:Europe/London
X-LIC-LOCATION:Europe/London
BEGIN:STANDARD
DTSTART:20231029T010000
TZOFFSETFROM:+0100
TZOFFSETTO:+0000
TZNAME:GMT
END:STANDARD
END:VTIMEZONE
END:VCALENDAR