BEGIN:VCALENDAR
VERSION:2.0
PRODID:-//wp-events-plugin.com//7.2.3.1//EN
TZID:Europe/London
X-WR-TIMEZONE:Europe/London
BEGIN:VEVENT
UID:111@cakeschool.co.uk
DTSTART;TZID=Europe/London:20221031T100000
DTEND;TZID=Europe/London:20221205T123000
DTSTAMP:20221023T165803Z
URL:https://cakeschool.co.uk/courses/october-monday-morning-santa-playing-
 the-piano/
SUMMARY:October Monday Morning - Santa Playing the Piano
DESCRIPTION:This is a six week modelling and cake covering course. The them
 e for this course is a Christmas theme.\n\nThe cake is a 8" square fruit c
 ake base (student to supply) with a jolly Santa playing a piano and his ha
 ppy elves wrapping pressies and singing along.  The teaching focuses on m
 odelling figures\, with character features\, making the piano out of pasti
 llage\, plus many more decorative techniques in sugar paste to complete th
 is delightful\, festive project.\n\nSkills covered during the six weeks wi
 ll be cake covering using sugar paste\, making and working with pastillage
 \, 3D character modelling and decorative techniques using modelling paste.
 \n\nThe project is on 8" square fruit cake depth 4" approx students own fr
 uit cake (required week 2) or a  dummy cake can be an option if preferred
 \, available from the school.\n\n
ATTACH;FMTTYPE=image/jpeg:https://cakeschool.co.uk/wpckschl/wp-content/upl
 oads/2022/09/Santa-playing-Piano-close-up-x1-.jpeg
END:VEVENT
BEGIN:VTIMEZONE
TZID:Europe/London
X-LIC-LOCATION:Europe/London
BEGIN:STANDARD
DTSTART:20221030T010000
TZOFFSETFROM:+0100
TZOFFSETTO:+0000
TZNAME:GMT
END:STANDARD
END:VTIMEZONE
END:VCALENDAR