BEGIN:VCALENDAR
VERSION:2.0
PRODID:-//wp-events-plugin.com//7.2.3.1//EN
TZID:Europe/London
X-WR-TIMEZONE:Europe/London
BEGIN:VEVENT
UID:64@cakeschool.co.uk
DTSTART;TZID=Europe/London:20220613T183000
DTEND;TZID=Europe/London:20220711T213000
DTSTAMP:20220513T105438Z
URL:https://cakeschool.co.uk/courses/september-monday-evening-starting-a-c
 ake-business-from-home/
SUMMARY:June Monday Evening 'Starting a Cake Business from Home'
DESCRIPTION:
ATTACH;FMTTYPE=image/jpeg:https://cakeschool.co.uk/wpckschl/wp-content/upl
 oads/2019/08/Starting-acbfm.png
END:VEVENT
BEGIN:VTIMEZONE
TZID:Europe/London
X-LIC-LOCATION:Europe/London
BEGIN:DAYLIGHT
DTSTART:20220327T020000
TZOFFSETFROM:+0000
TZOFFSETTO:+0100
TZNAME:BST
END:DAYLIGHT
END:VTIMEZONE
END:VCALENDAR