BEGIN:VCALENDAR
VERSION:2.0
PRODID:-//wp-events-plugin.com//7.2.3.1//EN
TZID:Europe/London
X-WR-TIMEZONE:Europe/London
BEGIN:VEVENT
UID:344@cakeschool.co.uk
DTSTART;TZID=Europe/London:20260611T183000
DTEND;TZID=Europe/London:20260716T210000
DTSTAMP:20260422T081353Z
URL:https://cakeschool.co.uk/courses/thursday-evening-noddy-toy-town-theme
 d-cake/
SUMMARY:Thursday Evening 'Noddy- Toy Town Themed Cake'
DESCRIPTION:This is a six week 3D modelling and sugar paste cake covering c
 ourse. The theme for this course is stepping back into the colourful world
  of wonder with Noddy and some of his cheerful friends. In this fun\, hand
 s-on class\, you'll learn the techniques to create a bright\, storybook in
 spired cake with charming characters\, bold primary colours\, and of cours
 e the loveable character Noddy. From shaping friendly figures to crafting 
 the iconic little car and Toyland touches\, you'll discover how to bring n
 ostalgic favourite to life in edible form.(The actual Pic to follow)\n\nTh
 e project shape and size for this project is 8" Square by 4" deep\, studen
 ts can make a fruit cake if desired (required marzipaned for week 2) or a 
 sponge cake can be ordered if requested and Dawn is emailed\, alternativel
 y a dummy cake can be an option if preferred\, available from the school f
 or £8.00.
ATTACH;FMTTYPE=image/jpeg:https://cakeschool.co.uk/wpckschl/wp-content/upl
 oads/2022/05/Student-Close-up-Sugar-paste.jpg
END:VEVENT
BEGIN:VTIMEZONE
TZID:Europe/London
X-LIC-LOCATION:Europe/London
BEGIN:DAYLIGHT
DTSTART:20260329T020000
TZOFFSETFROM:+0000
TZOFFSETTO:+0100
TZNAME:BST
END:DAYLIGHT
END:VTIMEZONE
END:VCALENDAR